BEGIN:VCALENDAR
VERSION:2.0
PRODID:-//Symbion//NONSGML//EN
BEGIN:VEVENT
UID:69e8899e5f9d8
DTSTAMP:20260422T084102Z
DTSTART:20231030T140000Z
DTEND:20231030T163000Z
SUMMARY:Artificial Intelligence for Companies X DIKU
DESCRIPTION:University of Copenhagen, Department of Computer Science invites you to an afternoon of insights about how to implement AI in your company. WHAT Visit the Dept of Computer Science (DIKU) Robotics lab and learn about how to design and implement Artificial Intelligence solutions in your company. The event is in Danish. It is free of […]  View event: https://symbion.dk/event/artificial-intelligence-for-companies-x-diku/
LOCATION:DIKU Sigurdsgade 41 2200 København N
END:VEVENT
END:VCALENDAR
