BEGIN:VCALENDAR
VERSION:2.0
PRODID:-//Symbion//NONSGML//EN
BEGIN:VEVENT
UID:69e738e6ec9e6
DTSTAMP:20260421T084422Z
DTSTART:20231117T140000Z
DTEND:20231117T170000Z
SUMMARY:Community Friday Bar
DESCRIPTION:Join the rest of the community at the next Friday Bar at Lydens Hus! Toast to the weekend ahead together with your old and new neighbours – and have an absolutely awesome end to the work week 🤩 Anne and Neel will make sure that you can toast together in either cold beer, wine or […]  View event: https://symbion.dk/event/friday-bar-lh-17nov23/
LOCATION:Lydens Hus Gl. Kongevej 11 1610 København V
END:VEVENT
END:VCALENDAR
