BEGIN:VCALENDAR
VERSION:2.0
PRODID:-//Symbion//NONSGML//EN
BEGIN:VEVENT
UID:69e73578054f6
DTSTAMP:20260421T082944Z
DTSTART:20230908T133000Z
DTEND:20230908T160000Z
SUMMARY:Community Friday Bar
DESCRIPTION:Join your neighbours at the next Community Friday Bar the 8th of September! Neel and Benjamin will be ready to pour delicious pints of IPA and lager, glasses of wine and sodas – and of course to have a nice chat 🍻🎉 Normally the Univate Friday Bar is on the first Friday of the month, […]  View event: https://symbion.dk/event/community-friday-bar-uni-8sept23/
LOCATION:Univate Njalsgade 76 2300 København S
END:VEVENT
END:VCALENDAR
