BEGIN:VCALENDAR
VERSION:2.0
PRODID:-//Symbion//NONSGML//EN
BEGIN:VEVENT
UID:69e75267c9d8b
DTSTAMP:20260421T103311Z
DTSTART:20230504T063000Z
DTEND:20230504T090000Z
SUMMARY:Optimal Regulatory and Design Development – from idea to success of a Medical Device
DESCRIPTION:To succeed in taking a medical device product from idea to the market, both the design and development flow, as well as the regulatory flow need to be considered. As the inventor or manufacturer of a medical device, a key success factor is to choose the right partners, that have the capacity to meet your […]  View event: https://symbion.dk/event/optimal-regulatory-and-design-development-of-a-medical-device/
LOCATION:Medicon Valley Alliance Arne Jacobsen Allé 15 2300 Copenhagen S
END:VEVENT
END:VCALENDAR
