BEGIN:VCALENDAR
VERSION:2.0
PRODID:-//Symbion//NONSGML//EN
BEGIN:VEVENT
UID:69e73573dbff1
DTSTAMP:20260421T082939Z
DTSTART:20230609T130000Z
DTEND:20230609T230000Z
SUMMARY:Community Sports Day & BBQ Party
DESCRIPTION:❗REGISTRATION IS CLOSED❗ Please feel free to contact Neel at nhb@symbion.dk if you have any questions. We are looking forward to a fun day for all members of the community with various kinds of outdoor games. There will be both activities where you get your heart rate up – and activities where you can stand […]  View event: https://symbion.dk/event/the-symbion-community-sports-day/
LOCATION:Symbion Østerbro Fruebjergvej 3 2100 København Ø
END:VEVENT
END:VCALENDAR
