BEGIN:VCALENDAR
VERSION:2.0
PRODID:-//Symbion//NONSGML//EN
BEGIN:VEVENT
UID:69e75093dc8a9
DTSTAMP:20260421T102523Z
DTSTART:20221025T140000Z
DTEND:20221025T160000Z
SUMMARY:En eftermiddag om kommunikation og branding
DESCRIPTION:COMMUNITY TALK #3 En eftermiddag om kommunikation og branding Kommunikation er ikke til at komme uden om, hvis en startup skal have succes. Men hvordan går man i gang, og hvad er vigtigt? Mød kommunikationsrådgiver Anne-Mette Bro Jöhncke fra CommAgain, der blandt andet hjælper startups med at få struktur på kommunikationsindsatsen. Hun vil give fem […]  View event: https://symbion.dk/event/en-eftermiddag-om-kommunikation-og-branding/
LOCATION:Symbion Østerbro Fruebjergvej 3 2100 København Ø
END:VEVENT
END:VCALENDAR
