BEGIN:VCALENDAR
VERSION:2.0
PRODID:-//Symbion//NONSGML//EN
BEGIN:VEVENT
UID:69ebf0b2c5687
DTSTAMP:20260424T223738Z
DTSTART:20260529T133000Z
DTEND:20260529T160000Z
SUMMARY:Friday Bar
DESCRIPTION:Save the date! 🤠 A Friday bar is coming up in May for the companies at Symbion Østerbro! An easy Friday afternoon with draft beer, snacks and a chance to catch up with people. Drop by after work, bring a colleague, and enjoy a relaxed start to the weekend together 🤌 he Friday Bar is […]  View event: https://symbion.dk/event/oest-friday-bar-29maj2026/
LOCATION:Symbion Østerbro Fruebjergvej 3  
END:VEVENT
END:VCALENDAR
