BEGIN:VCALENDAR
VERSION:2.0
PRODID:-//Symbion//NONSGML//EN
BEGIN:VEVENT
UID:69ea2f97cc924
DTSTAMP:20260423T144127Z
DTSTART:20260528T070000Z
DTEND:20260528T080000Z
SUMMARY:Networking Breakfast
DESCRIPTION:We’re looking forward to the upcoming Networking Breakfast – a perfect chance to connect with fellow ‘univaters’ in a relaxed and friendly setting. Come enjoy some fresh morning pastries and a nice cup of coffee while kicking off your day with great conversations 👫💬 If you’re working in one of the companies at Univate, don’t […]  View event: https://symbion.dk/event/uni-breakfast-28may2026/
LOCATION:Univate Njalsgade 76 2300 København S
END:VEVENT
END:VCALENDAR
