BEGIN:VCALENDAR
VERSION:2.0
PRODID:-//Symbion//NONSGML//EN
BEGIN:VEVENT
UID:69eb6b003b948
DTSTAMP:20260424T130712Z
DTSTART:20260520T130000Z
DTEND:20260520T140000Z
SUMMARY:Networking Cake
DESCRIPTION:Take a break and have some cake! Combine networking with a sweet treat and take a break from e-mails while enjoying conversations and Symbion vibes at this Networking Cake event at Symbion Frederiksberg! 🧁 Make sure to save the date 🫡 The Networking Cake event is for companies that are located at Symbion Frederiksberg or […]  View event: https://symbion.dk/event/freb-networking-cake-20maj2026/
LOCATION:Symbion Frederiksberg Ndr. Fasanvej 215  
END:VEVENT
END:VCALENDAR
