BEGIN:VCALENDAR
VERSION:2.0
PRODID:-//Symbion//NONSGML//EN
BEGIN:VEVENT
UID:69ea168b8d1ae
DTSTAMP:20260423T125435Z
DTSTART:20260115T160000Z
DTEND:20260115T190000Z
SUMMARY:Successes and Stories from the Startup Academy
DESCRIPTION:Join the first Venture & Wine Event of 2026 where there will bring alumni of REBBLS Startup Academy and talk about their successes since. The REBBLS Startup Academy returns this March 2026 for its 6th Edition! Before the dive into another intense 4-day crash course in bio-entrepreneurship, you are invited to look back at the […]  View event: https://symbion.dk/event/successes-and-stories-from-the-startup-academy/
LOCATION:Symbion Østebro Fruebjergvej 3  
END:VEVENT
END:VCALENDAR
