BEGIN:VCALENDAR
VERSION:2.0
PRODID:-//Symbion//NONSGML//EN
BEGIN:VEVENT
UID:69ec9f096984f
DTSTAMP:20260425T110129Z
DTSTART:20260121T140000Z
DTEND:20260121T150000Z
SUMMARY:Networking Cake
DESCRIPTION:Join us for Networking Cake a relaxed afternoon designed to brink community together. Enjoy coffee, cake and conversations! 🤝 It’s an opportunity to strengthen connections across the community while enjoying a cozy and informal atmosphere. Share experiences, spark new collaborations, and leave with inspiration – don’t miss out ✨ The Networking Cake is for companies […]  View event: https://symbion.dk/event/networking-cake-fred-21jan2026/
LOCATION:Symbion Frederiksberg Ndr. Fasanvej 215  
END:VEVENT
END:VCALENDAR
