BEGIN:VCALENDAR
VERSION:2.0
PRODID:-//Symbion//NONSGML//EN
BEGIN:VEVENT
UID:69eca87cd2e93
DTSTAMP:20260425T114148Z
DTSTART:20251113T160000Z
DTEND:20251113T190000Z
SUMMARY:Clinical Trials Unpacked: From Design to Delivery
DESCRIPTION:Behind every breakthrough treatment lies a story of design, logistics, and collaboration. Ready to see how clinical trials really work? 🔬 About the EventClinical trials are the backbone of medical innovation, but behind every successful study lies a complex web of scientific, operational, and logistical challenges. Join the latest Venture & Wine session where experts in the field […]  View event: https://symbion.dk/event/clinical-trials-unpacked-from-design-to-delivery/
LOCATION:Symbion Østebro Fruebjergvej 3  
END:VEVENT
END:VCALENDAR
