BEGIN:VCALENDAR
VERSION:2.0
PRODID:-//Symbion//NONSGML//EN
BEGIN:VEVENT
UID:69ecb5dbdc263
DTSTAMP:20260425T123851Z
DTSTART:20251121T143000Z
DTEND:20251121T170000Z
SUMMARY:Friday Bar
DESCRIPTION:At this Friday Bar, we’ve planned a special treat — a port wine tasting! 🍷 Sure, you can enjoy port wine all year round, but many of us tend to save it for the cozy months leading up to Christmas. So what better time for a tasting than right now? You’ll get the chance to […]  View event: https://symbion.dk/event/friday-bar-vest-21nov2025/
LOCATION:Symbion Vesterbro Gl. Kongevej 11-13  
END:VEVENT
END:VCALENDAR
