BEGIN:VCALENDAR
VERSION:2.0
PRODID:-//Symbion//NONSGML//EN
BEGIN:VEVENT
UID:69eca9730f3a2
DTSTAMP:20260425T114555Z
DTSTART:20251002T150000Z
DTEND:20251002T180000Z
SUMMARY:Approaches to tackling AMR: commercialization and potential impact
DESCRIPTION:Join this ‘Beers with Peers- event and hear from four pioneering experts working on cutting-edge solutions – from AI-powered vaccine development to precision gene-editing therapies, targeted prevention of bacterial infections, and environmental monitoring technologies. After a short presentation from each speaker, we’ll dive into an open discussion on what it takes to bring AMR innovations […]  View event: https://symbion.dk/event/beers-with-peers-2oct2025/
LOCATION:Symbion Østerbro Fruebjergvej 3  
END:VEVENT
END:VCALENDAR
