BEGIN:VCALENDAR
VERSION:2.0
PRODID:-//Symbion//NONSGML//EN
BEGIN:VEVENT
UID:69ecaca8b0f36
DTSTAMP:20260425T115936Z
DTSTART:20251031T143000Z
DTEND:20251031T170000Z
SUMMARY:Friday Bar
DESCRIPTION:👻 Symbion Østerbro Friday Bar goes Halloween! 🎃No tricks, just treats for the spooky edition Friday Bar 31 October. No dress code required and you won’t be haunted if you skip the costume, but if you feel like unleashing your inner vampire, ghost or pumpkin, we’re here for it. We’ll provide chilling draft beers, haunting […]  View event: https://symbion.dk/event/oest-friday-bar-31okt2025/
LOCATION:Symbion Østerbro Fruebjergvej 3  
END:VEVENT
END:VCALENDAR
